BEGIN:VCALENDAR
PRODID:-//eluceo/ical//2.0/EN
VERSION:2.0
CALSCALE:GREGORIAN
BEGIN:VEVENT
UID:19c891dda589a67a2f5dfdbe3e14f6be
DTSTAMP:20260424T020835Z
SUMMARY:Temple Israel Shabbat Service and Shem Tov Award
DESCRIPTION:Jewish Federation of New Hampshire\nCommunity Calendar\nhttps:/
 /jewishnh.org/community-calendar/shabbat-service-and-shem-tov-award-166517
 4777\n\nShabbat service and celebration for Jeff Klein\, Shem Tov Award re
 cipient
DTSTART;TZID=America/New_York:20221119T100000
DTEND;TZID=America/New_York:20221119T123000
END:VEVENT
END:VCALENDAR
