BEGIN:VCALENDAR
PRODID:-//eluceo/ical//2.0/EN
VERSION:2.0
CALSCALE:GREGORIAN
BEGIN:VEVENT
UID:0518be227bf1d0a2e38a07400820079c
DTSTAMP:20260423T100505Z
SUMMARY:Shabbat Shuvah Observence at Congregation Betenu
DESCRIPTION:Jewish Federation of New Hampshire\nCommunity Calendar\nhttps:/
 /jewishnh.org/community-calendar/shabbat-shuvah-observence-1628091471\n\nV
 irtual service. Lay led Friday evening service and Shabbat Shuvah observen
 ce.
DTSTART;TZID=America/New_York:20210910T193000
DTEND;TZID=America/New_York:20210910T203000
END:VEVENT
END:VCALENDAR
