BEGIN:VCALENDAR
PRODID:-//eluceo/ical//2.0/EN
VERSION:2.0
CALSCALE:GREGORIAN
BEGIN:VEVENT
UID:860c8504863e00548f6fa54156be2eb0
DTSTAMP:20260423T100703Z
SUMMARY:Shabbat\, Sustenance & Shiur with Rabbi Jen Tobenstein
DESCRIPTION:Jewish Federation of New Hampshire\nCommunity Calendar\nhttps:/
 /jewishnh.org/community-calendar/shabbat-sustenance--shiur-with-rabbi-jen-
 tobenstein-1671717477\n\nLearning topic - The Arc of the Moral Universe:  
 How We Bend It Towards Justice:  A Jewish Perspective in Honor of MLK Day.
   RSVP required by noon Dec 30.  Please use the link on the events page ou
 r website (www.templeisraelmht.org)\, or call email or call the TI office.
DTSTART;TZID=America/New_York:20230107T100000
DTEND;TZID=America/New_York:20230107T140000
END:VEVENT
END:VCALENDAR
