BEGIN:VCALENDAR
PRODID:-//eluceo/ical//2.0/EN
VERSION:2.0
CALSCALE:GREGORIAN
BEGIN:VEVENT
UID:efe728063b44caf8e0ad3cb378041ed2
DTSTAMP:20260423T172302Z
SUMMARY:Shabbatone Service & Breakfast
DESCRIPTION:Jewish Federation of New Hampshire\nCommunity Calendar\nhttps:/
 /jewishnh.org/community-calendar/shabbatone-service--breakfast-1665174295\
 n\nCall for more information
DTSTART;TZID=America/New_York:20221105T100000
DTEND;TZID=America/New_York:20221105T121500
END:VEVENT
END:VCALENDAR
