BEGIN:VCALENDAR
PRODID:-//eluceo/ical//2.0/EN
VERSION:2.0
CALSCALE:GREGORIAN
BEGIN:VEVENT
UID:e8a64c7968a7fe8b14d6e82a97a84e7d
DTSTAMP:20260424T130700Z
SUMMARY:Temple Israel Shabbes Tisch Potluck Supper
DESCRIPTION:Jewish Federation of New Hampshire\nCommunity Calendar\nhttps:/
 /jewishnh.org/community-calendar/shabbes-tisch-potluck-supper-1707838967\n
 \nPlease bring a dish to share at Temple Israel Portsmouth's family-friend
 ly community potluck Shabbat dinner in the Social Hall. (No sanctuary serv
 ice or Zoom component.)\n\nPotluck note: dishes brought into the temple mu
 st be vegetarian\, dairy\, or pareve. For more information\, please review
  Appendix 1 of the Kashrut Policy\, available by contacting the temple off
 ice.
DTSTART;TZID=America/New_York:20240315T183000
DTEND;TZID=America/New_York:20240315T193000
END:VEVENT
END:VCALENDAR
