BEGIN:VCALENDAR
PRODID:-//eluceo/ical//2.0/EN
VERSION:2.0
CALSCALE:GREGORIAN
BEGIN:VEVENT
UID:c4e753533b285327f4afb5734809d671
DTSTAMP:20260422T174551Z
SUMMARY:Etz Hayim Shalom Ra'anan
DESCRIPTION:Jewish Federation of New Hampshire\nCommunity Calendar\nhttps:/
 /jewishnh.org/community-calendar/shalom-raanan\n\nFor the last two years\,
  Ra’anan de Haas has been the Jewish Federation of NH\, Israeli Shaliach
  aka Israeli ambassador.  In those two years\, he has been to and worked 
 with all NH Jewish communities. This is the last time that he will be at E
 tz Hayim.  He has done many neat and informative Hot Topics and Cool Cont
 emporary Stuff programs including Israeli Naval  Operations\, News from I
 srael\, and The New Tribes of Israel\, and he has been a regular contribut
 or to our Hebrew School. This is ou...
DTSTART;TZID=America/New_York:20230622T190000
DTEND;TZID=America/New_York:20230622T210000
END:VEVENT
END:VCALENDAR
