BEGIN:VCALENDAR
PRODID:-//eluceo/ical//2.0/EN
VERSION:2.0
CALSCALE:GREGORIAN
BEGIN:VEVENT
UID:0309c5c02282813a18a2fc8a46a8802a
DTSTAMP:20260424T025619Z
SUMMARY:Shalom/Shalom Drive-Thru
DESCRIPTION:Jewish Federation of New Hampshire\nCommunity Calendar\nhttps:/
 /jewishnh.org/community-calendar/shalomshalom-drive-thru\n\nJFNH current S
 hlicha Avia and incoming Shaliach Ra'anan will be traveling the state toge
 ther and making stops along the way to visit with the NH community. This i
 s your opportunity to say farewell and Avia and welcome Ra'anan to the NH.
 \n\nWith such a small window of time to visit an entire state all location
 s are open to the entire community\, you do not need to be a member of the
  synanggue to participate.\n\nTues 8/3 - Temple Adath Yeshurun\, Mancheste
 r\n\nWed 8/4 - Temple Beth Abraham\, Nashu...
DTSTART;TZID=America/New_York:20210803T180000
DTEND;TZID=America/New_York:20210803T190000
END:VEVENT
END:VCALENDAR
