BEGIN:VCALENDAR
PRODID:-//eluceo/ical//2.0/EN
VERSION:2.0
CALSCALE:GREGORIAN
BEGIN:VEVENT
UID:195e7c92317167d7da5635dc6dd2d712
DTSTAMP:20260425T115945Z
SUMMARY:Shalom/Shalom Drive-Thru
DESCRIPTION:Jewish Federation of New Hampshire\nCommunity Calendar\nhttps:/
 /jewishnh.org/community-calendar/shalomshalom-drive-thru3\n\nJFNH current 
 Shlicha Avia and incoming Shaliach Ra'anan will be traveling the state tog
 ether and making stops along the way to visit with the NH community. This 
 is your opportunity to say farewell and Avia and welcome Ra'anan to the NH
 .\n\nWith such a small window of time to visit an entire state all locatio
 ns are open to the entire community\, you do not need to be a member of th
 e synanggue to participate.\n\nTues 8/3 - Temple Adath Yeshurun\, Manchest
 er\n\nWed 8/4 - Temple Beth Abraham\, Nashu...
DTSTART;TZID=America/New_York:20210805T180000
DTEND;TZID=America/New_York:20210805T190000
END:VEVENT
END:VCALENDAR
