BEGIN:VCALENDAR
PRODID:-//eluceo/ical//2.0/EN
VERSION:2.0
CALSCALE:GREGORIAN
BEGIN:VEVENT
UID:d40b93a4144174976f09a2743c3461b7
DTSTAMP:20260423T112504Z
SUMMARY:Sharing Chanukah in Your Child's Multi-Faith Classroom
DESCRIPTION:Jewish Federation of New Hampshire\nCommunity Calendar\nhttps:/
 /jewishnh.org/community-calendar/sharing-chanukah-in-your-childs-multi-fai
 th-classroom\n\nIf you're feeling unsure about sharing Chanukah in your c
 hild's multi-faith class join us for this "how to" session!\n\nEvery parti
 cipant will receive:\n\n\nAn easy to explain summary of the Chanukah story
 \nThe dreidel game - includes dreidels\, coins\, and directions\nA PJ Libr
 ary Chanukah book for your child's classroom\nExplore Chanukah craft and a
 ctivity ideas - Make and Take\nSufganiyot (jelly doughnuts) and coffee whi
 le you shmooze with other adults\n\n\n$18/participant - Please cal...
DTSTART;TZID=America/New_York:20191211T180000
DTEND;TZID=America/New_York:20191211T200000
END:VEVENT
END:VCALENDAR
