BEGIN:VCALENDAR
PRODID:-//eluceo/ical//2.0/EN
VERSION:2.0
CALSCALE:GREGORIAN
BEGIN:VEVENT
UID:e1a855b9680c7b1e939b0e5db3fc6e62
DTSTAMP:20260423T080812Z
SUMMARY:Shavua Tov Story Time
DESCRIPTION:Jewish Federation of New Hampshire\nCommunity Calendar\nhttps:/
 /jewishnh.org/community-calendar/shavua-tov-story-time\n\nStart your week 
 (and your Sunday morning) with an interactive Story Time.\n\nThis 20 minut
 e Zoom program is designed for families with children ages 2-5 and hosted 
 by past JFNH Preschool Director Alane Sabel.\n\nFor December we'll read ab
 out Chanukah! All registered families will receive a Chanukah craft mailed
  to your home the week of the program. As a family make your craft ahead o
 f the program and we'll use the finished projects as part of our story!\n\
 nPre-registration is required by Dece...
DTSTART;TZID=America/New_York:20201206T083000
DTEND;TZID=America/New_York:20201206T090000
END:VEVENT
END:VCALENDAR
