BEGIN:VCALENDAR
PRODID:-//eluceo/ical//2.0/EN
VERSION:2.0
CALSCALE:GREGORIAN
BEGIN:VEVENT
UID:e10b508f3f4e04f4beed986f61097a65
DTSTAMP:20260423T034538Z
SUMMARY:Shavua Tov Story Time - Israel!
DESCRIPTION:Jewish Federation of New Hampshire\nCommunity Calendar\nhttps:/
 /jewishnh.org/community-calendar/shavua-tov-story-time-israel\n\nStart you
 r week (and your Sunday morning) with an interactive Story Time. This 20 m
 inute Zoom program is designed for families with children ages 2-5. \n\nI
 n April we'll be talking about Israel. All registered families will receiv
 e a craft mailed to their home the week of the program. As a family make 
 your craft ahead of time and we'll use the finished project as part of our
  program\,\n\n \n\nPre-registration is required and the Zoom link will b
 e provided.\n\n \n\n*Shavua Tov Story time i...
DTSTART;TZID=America/New_York:20210411T083000
DTEND;TZID=America/New_York:20210411T103000
END:VEVENT
END:VCALENDAR
