BEGIN:VCALENDAR
PRODID:-//eluceo/ical//2.0/EN
VERSION:2.0
CALSCALE:GREGORIAN
BEGIN:VEVENT
UID:0c2c777f1d5e5ae256f8d783b0755197
DTSTAMP:20260422T060559Z
SUMMARY:Shavua Tov Story Time
DESCRIPTION:Jewish Federation of New Hampshire\nCommunity Calendar\nhttps:/
 /jewishnh.org/community-calendar/shavua-tov-story-time-june\n\nStart your 
 week (and your Sunday morning) with an interactive Story Time. This 20 min
 ute Zoom program is designed for families with children ages 2-5.\n\n \n\
 nAll registered families will receive a craft mailed to their home the we
 ek of the program. As a family make your craft ahead of time and we'll use
  the finished project as part of our program\,\n\n \n\nPre-registration i
 s required and the Zoom link will be provided. Email allyson.guertin@jewi
 shnh.org \n\n \n\n*Shavua Tov Story time i...
DTSTART;TZID=America/New_York:20210613T083000
DTEND;TZID=America/New_York:20210613T090000
END:VEVENT
END:VCALENDAR
