BEGIN:VCALENDAR
PRODID:-//eluceo/ical//2.0/EN
VERSION:2.0
CALSCALE:GREGORIAN
BEGIN:VEVENT
UID:9ebf5cb5dc5a2e7569e4336050500998
DTSTAMP:20260423T032425Z
SUMMARY:Shavua Tov Story Time
DESCRIPTION:Jewish Federation of New Hampshire\nCommunity Calendar\nhttps:/
 /jewishnh.org/community-calendar/shavua-tov-story-time-may\n\nStart your w
 eek (and your Sunday morning) with an interactive Story Time. This 20 minu
 te Zoom program is designed for families with children ages 2-5.\n\n \n\n
 All registered families will receive a craft mailed to their home the wee
 k of the program. As a family make your craft ahead of time and we'll use 
 the finished project as part of our program\,\n\n \n\nPre-registration is
  required and the Zoom link will be provided. Email allyson.guertin@jewis
 hnh.org \n\n \n\n*Shavua Tov Story time i...
DTSTART;TZID=America/New_York:20210523T083000
DTEND;TZID=America/New_York:20210523T090000
END:VEVENT
END:VCALENDAR
