BEGIN:VCALENDAR
PRODID:-//eluceo/ical//2.0/EN
VERSION:2.0
CALSCALE:GREGORIAN
BEGIN:VEVENT
UID:0af2f64fd4a6adfe79da61f89a17d584
DTSTAMP:20260422T175637Z
SUMMARY:Shavua Tov Story Time - Noah's Ark!
DESCRIPTION:Jewish Federation of New Hampshire\nCommunity Calendar\nhttps:/
 /jewishnh.org/community-calendar/shavua-tov-story-time-noahs-ark\n\nA prog
 ram designed for families with children ages 2-5\n\nJoin us for a 20 minut
 e interactive story time on Zoom on Sunday each month. This month our them
 e is Noah's Ark!\n\nAll participants will receive a craft in the mail ahea
 d of time to use during the program.\n\nThe zoom link will be provided to 
 registered families each Monday ahead of the program. \n.....\nSunday\, O
 ctober 17th ~ 8:30AM\nTo receive your craft in the mail please register by
  Sunday\, September 10th \n\nEmail alane.sabel@j...
DTSTART;TZID=America/New_York:20211017T083000
DTEND;TZID=America/New_York:20211017T090000
END:VEVENT
END:VCALENDAR
