BEGIN:VCALENDAR
PRODID:-//eluceo/ical//2.0/EN
VERSION:2.0
CALSCALE:GREGORIAN
BEGIN:VEVENT
UID:47a671ddc646ce2669a1c8e0b2eddd96
DTSTAMP:20260422T200425Z
SUMMARY:Shavua Tov Story Time - Passover
DESCRIPTION:Jewish Federation of New Hampshire\nCommunity Calendar\nhttps:/
 /jewishnh.org/community-calendar/shavua-tov-story-time-passover\n\nStart y
 our week (and your Sunday morning) with an interactive Story Time.\n\n\nTh
 is 20 minute Zoom program is designed for families with children ages 2-5.
  \n\nIn March we'll be talking about Passover. All registered families
  will receive a craft mailed to your home the week of the program. As a f
 amily make your craft ahead of the program and we'll use the finished proj
 ects as part of our program\,\n\nPre-registration is required and the Zoo
 m link will be provided when registration is re...
DTSTART;TZID=America/New_York:20210321T083000
DTEND;TZID=America/New_York:20210321T093000
END:VEVENT
END:VCALENDAR
