BEGIN:VCALENDAR
PRODID:-//eluceo/ical//2.0/EN
VERSION:2.0
CALSCALE:GREGORIAN
BEGIN:VEVENT
UID:7e0d7fa8896285ab4752e90d48a2452e
DTSTAMP:20260424T142619Z
SUMMARY:Shavua Tov Story Time - Purim
DESCRIPTION:Jewish Federation of New Hampshire\nCommunity Calendar\nhttps:/
 /jewishnh.org/community-calendar/shavua-tov-story-time-purim\n\nStart your
  week (and your Sunday morning) with an interactive Story Time.\nThis 20 m
 inute Zoom program is designed for families with children ages 2-5. \n\nI
 n Febraury we'll be celebrating Purim so wear your favorite costume! All
  registered families will receive a craft mailed to your home the week of
  the program. As a family make your craft ahead of the program and we'll u
 se the finished projects as part of our program\,\n\n\nPre-registration is
  required and the Zoom link will be provide...
DTSTART;TZID=America/New_York:20210221T083000
DTEND;TZID=America/New_York:20210221T090000
END:VEVENT
END:VCALENDAR
