BEGIN:VCALENDAR
PRODID:-//eluceo/ical//2.0/EN
VERSION:2.0
CALSCALE:GREGORIAN
BEGIN:VEVENT
UID:f2983cd3ed79a6c3b4dfb29954a6d5ee
DTSTAMP:20260424T064650Z
SUMMARY:Shavua Tov Story Time - Tu B'Shevat
DESCRIPTION:Jewish Federation of New Hampshire\nCommunity Calendar\nhttps:/
 /jewishnh.org/community-calendar/shavua-tov-story-time-tu-bshevat\n\nStart
  your week (and your Sunday morning) with an interactive Story Time.\nThis
  20 minute Zoom program is designed for families with children ages 2-5. T
 his month we'll learn the Tu B'Shevat (the birthday of the trees) with a s
 tory\, movement and singing by Happy Birthday in both English and Hebrew!\
 nAll registered families will receive a Tu B'Shevat craft mailed to your h
 ome the week of the program. As a family make your craft ahead of the prog
 ram and we'll use the finished projects as part o...
DTSTART;TZID=America/New_York:20210124T083000
DTEND;TZID=America/New_York:20210124T090000
END:VEVENT
END:VCALENDAR
