BEGIN:VCALENDAR
PRODID:-//eluceo/ical//2.0/EN
VERSION:2.0
CALSCALE:GREGORIAN
BEGIN:VEVENT
UID:ff86ae0e326f82d5ea8bfd7a889cf1be
DTSTAMP:20260423T050033Z
SUMMARY:Shavua Tov Storytime - Tu B'Shvat
DESCRIPTION:Jewish Federation of New Hampshire\nCommunity Calendar\nhttps:/
 /jewishnh.org/community-calendar/shavua-tov-storytime\n\nA program designe
 d for families with children ages 2-5\n\nJoin us for a 20 minute interacti
 ve story time on Zoom on Sunday each month. This month our theme is Tu B'
 Shvat!\n\nAll participants will receive a craft in the mail ahead of time 
 to use during the program.\n\nThe zoom link will be provided to registered
  families each Monday ahead of the program. \n.....\nTo receive your craf
 t in the mail please register by Sunday\, January 2nd. \n\nEmail alane.sa
 bel@jewishnh.org with questions\n\nPl...
DTSTART;TZID=America/New_York:20220109T083000
DTEND;TZID=America/New_York:20220109T090000
END:VEVENT
END:VCALENDAR
