BEGIN:VCALENDAR
PRODID:-//eluceo/ical//2.0/EN
VERSION:2.0
CALSCALE:GREGORIAN
BEGIN:VEVENT
UID:427f34640ee2c37aaa36397f780c7c60
DTSTAMP:20260423T194335Z
SUMMARY:Shavua Tov Storytime 2022-2023
DESCRIPTION:Jewish Federation of New Hampshire\nCommunity Calendar\nhttps:/
 /jewishnh.org/community-calendar/shavua-tov-storytime-2022-2023\n\nA progr
 am designed for families with children ages 2-5\n\nJoin us for a 20 minute
  interactive story time on Zoom on Sunday each month. Each month will have
  a different theme! All participants will receive a craft in the mail ahea
 d of time to use during the program.\n\nThe zoom link will be provided to 
 registered families each Monday ahead of the program. \n.....\nTo receive
  your craft in the mail please register a week in advance of each program.
 \n\nEmail alane.sabel@jewishnh.org with ques...
DTSTART;TZID=America/New_York:20220918T083000
DTEND;TZID=America/New_York:20220918T090000
END:VEVENT
END:VCALENDAR
