BEGIN:VCALENDAR
PRODID:-//eluceo/ical//2.0/EN
VERSION:2.0
CALSCALE:GREGORIAN
BEGIN:VEVENT
UID:d11992f4af6e3fb50b9a000235980726
DTSTAMP:20260422T115928Z
SUMMARY:Shavua Tov Storytime 2023-2024
DESCRIPTION:Jewish Federation of New Hampshire\nCommunity Calendar\nhttps:/
 /jewishnh.org/community-calendar/shavua-tov-storytime-2023-2024\n\nA progr
 am designed for families with children ages 2-5\n\nJoin us for a 20-minute
  interactive story time on Zoom one Sunday each month from 8:30am to 9:00a
 m. \nEach month will have a different theme!\n\n\nRegister once for $18.0
 0 per family to receive monthly crafts in the mail all year! Crafts will a
 rrive for each child every month to use during the program. If cost is pro
 hibitive please reach out to Alane at alane.sabel@jewishnh.org. \n\nThe 
 zoom link will be provided to registered famil...
DTSTART;TZID=America/New_York:20231015T083000
DTEND;TZID=America/New_York:20231015T093000
END:VEVENT
END:VCALENDAR
