BEGIN:VCALENDAR
PRODID:-//eluceo/ical//2.0/EN
VERSION:2.0
CALSCALE:GREGORIAN
BEGIN:VEVENT
UID:3fdef1d5a18dd8cf940e6e4ee9f36054
DTSTAMP:20260422T111027Z
SUMMARY:Shavua Tov Storytime - Shabbat!
DESCRIPTION:Jewish Federation of New Hampshire\nCommunity Calendar\nhttps:/
 /jewishnh.org/community-calendar/shavua-tov-storytime-feb2022\n\nA program
  designed for families with children ages 2-5\n\nJoin us for a 20 minute i
 nteractive story time on Zoom on Sunday each month. This month our theme 
 is Shabbat!\n\nAll participants will receive a craft in the mail ahead of 
 time to use during the program.\n\nThe zoom link will be provided to regis
 tered families each Monday ahead of the program. \n.....\nTo receive your
  craft in the mail please register by Sunday\, February 13th.\n\nEmail ala
 ne.sabel@jewishnh.org with questions\n\nPleas...
DTSTART;TZID=America/New_York:20220220T083000
DTEND;TZID=America/New_York:20220220T090000
END:VEVENT
END:VCALENDAR
