BEGIN:VCALENDAR
PRODID:-//eluceo/ical//2.0/EN
VERSION:2.0
CALSCALE:GREGORIAN
BEGIN:VEVENT
UID:c66a8a4b0a3553327732ef676acab145
DTSTAMP:20260423T233545Z
SUMMARY:CANCELLED - Shavua Tov Storytime - Passover
DESCRIPTION:Jewish Federation of New Hampshire\nCommunity Calendar\nhttps:/
 /jewishnh.org/community-calendar/shavua-tov-storytime-passover\n\nPlease n
 ote\, this program has been cancelled.\n\nA program designed for families 
 with children ages 2-5\n\nJoin us for a 20 minute interactive story time o
 n Zoom on Sunday each month. This month our theme is Passover!\n\nAll par
 ticipants will receive a craft in the mail ahead of time to use during the
  program.\n\nThe zoom link will be provided to registered families each Mo
 nday ahead of the program. \n.....\nTo receive your craft in the mail ple
 ase register by Sunday\, April 3rd.\n\nEmail a...
DTSTART;TZID=America/New_York:20220410T083000
DTEND;TZID=America/New_York:20220410T090000
END:VEVENT
END:VCALENDAR
