BEGIN:VCALENDAR
PRODID:-//eluceo/ical//2.0/EN
VERSION:2.0
CALSCALE:GREGORIAN
BEGIN:VEVENT
UID:12de595453adcf574ac551f529cfb2d9
DTSTAMP:20260422T043943Z
SUMMARY:Shavua Tov Storytime - Purim!
DESCRIPTION:Jewish Federation of New Hampshire\nCommunity Calendar\nhttps:/
 /jewishnh.org/community-calendar/shavua-tov-storytime-purim\n\nA program d
 esigned for families with children ages 2-5\n\nJoin us for a 20 minute int
 eractive story time on Zoom on Sunday each month. This month our theme is
  Purim!\n\nAll participants will receive a craft in the mail ahead of time
  to use during the program.\n\nThe zoom link will be provided to registere
 d families each Monday ahead of the program. \n.....\nTo receive your cra
 ft in the mail please register by Sunday\, March 13th.\n\nEmail alane.sab
 el@jewishnh.org with questions\n\nPlease c...
DTSTART;TZID=America/New_York:20220320T083000
DTEND;TZID=America/New_York:20220320T090000
END:VEVENT
END:VCALENDAR
