BEGIN:VCALENDAR
PRODID:-//eluceo/ical//2.0/EN
VERSION:2.0
CALSCALE:GREGORIAN
BEGIN:VEVENT
UID:086e26bd03b67b52a87e961ffd787b7d
DTSTAMP:20260423T220545Z
SUMMARY:Shavua Tov Storytime - Shavuot
DESCRIPTION:Jewish Federation of New Hampshire\nCommunity Calendar\nhttps:/
 /jewishnh.org/community-calendar/shavua-tov-storytime-shavuot\n\nA program
  designed for families with children ages 2-5\n\nJoin us for a 20 minute i
 nteractive story time on Zoom on Sunday each month. This month our theme 
 is Shavuot!\n\nAll participants will receive a craft in the mail ahead of 
 time to use during the program.\n\nThe zoom link will be provided to regis
 tered families each Monday ahead of the program. \n.....\nTo receive your
  craft in the mail please register by Sunday\, June 5th.\n\nEmail alane.s
 abel@jewishnh.org with questions\n\nPlease c...
DTSTART;TZID=America/New_York:20220612T083000
DTEND;TZID=America/New_York:20220612T090000
END:VEVENT
END:VCALENDAR
