BEGIN:VCALENDAR
PRODID:-//eluceo/ical//2.0/EN
VERSION:2.0
CALSCALE:GREGORIAN
BEGIN:VEVENT
UID:c240897fa6f4a9c521a01f0788e467ff
DTSTAMP:20260422T153107Z
SUMMARY:Shavuot
DESCRIPTION:Jewish Federation of New Hampshire\nCommunity Calendar\nhttps:/
 /jewishnh.org/community-calendar/shavuot\n\nBegins sunset Thursday\, May 
 25\, 2023\nEnds evening Saturday\, May 27\, 2023
DTSTART;TZID=America/New_York:20230525T000000
DTEND;TZID=America/New_York:20230527T000000
END:VEVENT
END:VCALENDAR
