BEGIN:VCALENDAR
PRODID:-//eluceo/ical//2.0/EN
VERSION:2.0
CALSCALE:GREGORIAN
BEGIN:VEVENT
UID:bba8b46c52e520d59c0c5567d72b30c1
DTSTAMP:20260422T094921Z
SUMMARY:Shavuot Community Potluck\, Learning\, and Song Session
DESCRIPTION:Jewish Federation of New Hampshire\nCommunity Calendar\nhttps:/
 /jewishnh.org/community-calendar/shavuot-community-potluck-learning-and-so
 ng-session-1681156965\n\nPlease join Temple Israel Portsmouth for a  spec
 ial "Blinis and Blintzes" dairy potluck in celebration of Shavuot! Please 
 bring a dish to share in the social hall. Learning sessions and songs will
  follow.\n\nPotluck note: dishes brought into the temple must be vegetaria
 n\, dairy\, or pareve.
DTSTART;TZID=America/New_York:20230525T183000
DTEND;TZID=America/New_York:20230525T203000
END:VEVENT
END:VCALENDAR
