BEGIN:VCALENDAR
PRODID:-//eluceo/ical//2.0/EN
VERSION:2.0
CALSCALE:GREGORIAN
BEGIN:VEVENT
UID:50f7e82e32afbc701962cfd5928cdc99
DTSTAMP:20260422T015100Z
SUMMARY:Temple Israel Portsmouth Shavuot Service with Yizkor
DESCRIPTION:Jewish Federation of New Hampshire\nCommunity Calendar\nhttps:/
 /jewishnh.org/community-calendar/shavuot-service-with-yizkor-1649441596\n\
 nPlease join Temple Israel Portsmouth for a service to celebrate the begin
 ning of the festival of Shavuot\, which commemorates the giving of the Tor
 ah to the Jewish people. The service will include the reading of the Ten C
 ommandments and a Yizkor Memorial Service.
DTSTART;TZID=America/New_York:20220605T100000
DTEND;TZID=America/New_York:20220605T113000
END:VEVENT
END:VCALENDAR
