BEGIN:VCALENDAR
PRODID:-//eluceo/ical//2.0/EN
VERSION:2.0
CALSCALE:GREGORIAN
BEGIN:VEVENT
UID:abc38fb5406615d05248ceb9df8f240b
DTSTAMP:20260423T050011Z
SUMMARY:Shemini Atzeret & Simchat Torah
DESCRIPTION:Jewish Federation of New Hampshire\nCommunity Calendar\nhttps:/
 /jewishnh.org/community-calendar/shemini-atzeret-simchat-torah-2023\n\nBeg
 ins sunset Friday\, October 6\, 2023\nEnds evening of Sunday\, October 8\,
  2023
DTSTART;TZID=America/New_York:20231006T000000
DTEND;TZID=America/New_York:20231008T000000
END:VEVENT
END:VCALENDAR
