BEGIN:VCALENDAR
PRODID:-//eluceo/ical//2.0/EN
VERSION:2.0
CALSCALE:GREGORIAN
BEGIN:VEVENT
UID:d7a4a9589f2216214413bb6822877d35
DTSTAMP:20260422T145719Z
SUMMARY:"Shine a Light" on Climate Action: Interfaith Hanukkah Candle Light
 ing
DESCRIPTION:Jewish Federation of New Hampshire\nCommunity Calendar\nhttps:/
 /jewishnh.org/community-calendar/shine-a-light-on-climate-action-interfait
 h-hanukkah-candle-lighting-1702400955\n\nPlease join us for a festive even
 t and symbolic Hanukkah candle lighting\, "illuminating" climate action in
  the Upper Valley!
DTSTART;TZID=America/New_York:20231217T163000
DTEND;TZID=America/New_York:20231217T180000
END:VEVENT
END:VCALENDAR
