BEGIN:VCALENDAR
PRODID:-//eluceo/ical//2.0/EN
VERSION:2.0
CALSCALE:GREGORIAN
BEGIN:VEVENT
UID:310aa3f7de1c9bf0795c3ef712859e0f
DTSTAMP:20260423T092548Z
SUMMARY:Shlichut Art Gallery and Fundraiser
DESCRIPTION:Jewish Federation of New Hampshire\nCommunity Calendar\nhttps:/
 /jewishnh.org/community-calendar/shlichut-art-gallery-and-fundraiser\n\nJo
 in us for a celebration of our Shlicha Program.\n\nFeaturing artwork by Ne
 w Hampshire Shlicha Avia Sagron.\n\nA benefit to support the JFNH Israeli 
 Emisary Program\n\n\nEnjoy Kosher Israeli/Mediterranean fare\nWish Avia we
 ll on her next journey\nMeet our new Shaliach Ra'anan De-Has\n\n\nPurchase
  a piece of Avia's beautiful artwork and bid on two original creation\n\nT
 ickets: $36/person $50/couple\n\nReceive an Israel/New Hampshire pin with 
 an additional donation of $18\n\n 
DTSTART;TZID=America/New_York:20210808T110000
DTEND;TZID=America/New_York:20210808T130000
END:VEVENT
END:VCALENDAR
