BEGIN:VCALENDAR
PRODID:-//eluceo/ical//2.0/EN
VERSION:2.0
CALSCALE:GREGORIAN
BEGIN:VEVENT
UID:5cd854c6a483ef74a162ae23d72609f2
DTSTAMP:20260422T163157Z
SUMMARY:Sh'Ma Listen Speaker Series: Introduction to Jewish Genealogy
DESCRIPTION:Jewish Federation of New Hampshire\nCommunity Calendar\nhttps:/
 /jewishnh.org/community-calendar/shma-listen-speaker-series-introduction-t
 o-jewish-genealogy-1580739227\n\nJessie Klein will present on finding and 
 preserving your family tree and history. She'll talk about the latest rese
 arch methods to help document your family stories. \n\nComplementary desse
 rts and coffee in the social hall after the program.\n\nCost is free but R
 SVPs required for event.
DTSTART;TZID=America/New_York:20200322T130000
DTEND;TZID=America/New_York:20200322T143000
END:VEVENT
END:VCALENDAR
