BEGIN:VCALENDAR
PRODID:-//eluceo/ical//2.0/EN
VERSION:2.0
CALSCALE:GREGORIAN
BEGIN:VEVENT
UID:9a6f976312be617e5a83ab679ce50def
DTSTAMP:20260423T011745Z
SUMMARY:Sh'Ma Speaker Series- The Powers that Bind: Women in the Family Cir
 cle
DESCRIPTION:Jewish Federation of New Hampshire\nCommunity Calendar\nhttps:/
 /jewishnh.org/community-calendar/shma-speaker-series--the-powers-that-bind
 -women-in-the-family-circle-1578060602\n\n“ The Powers that Bind: Women 
 in the Family Circle “ Noreen Leibson\, Director of Education and Family
  Engagement\, Temple Beth Abraham will talk on how our ancient family stor
 ies are riddled with tales of true love\, lust\, seduction and adultery. G
 iven that the Torah is laconic\, so much is left to our imagination\, and 
 often the women’s voice is left out altogether. Thankfully we have a ric
 h resource in Biblical midrash\, interpretations of the text that offer re
 aders a wider vista within w...
DTSTART;TZID=America/New_York:20200126T130000
DTEND;TZID=America/New_York:20200126T143000
END:VEVENT
END:VCALENDAR
