BEGIN:VCALENDAR
PRODID:-//eluceo/ical//2.0/EN
VERSION:2.0
CALSCALE:GREGORIAN
BEGIN:VEVENT
UID:4a151435d10ddca439d0b5442ab6e071
DTSTAMP:20260422T083217Z
SUMMARY:Shooting Life - NH Jewish Film Festival
DESCRIPTION:Jewish Federation of New Hampshire\nCommunity Calendar\nhttps:/
 /jewishnh.org/community-calendar/shooting-life---nh-jewish-film-festival-1
 581455470\n\nNew Hampshire Premiere\nAdmission: $12.00\nSunday\, March 22\
 , 2020\, 3:30 PM\nThe Music Loft\, Portsmouth\, NH\n\nFilm Star Sponsor:Le
 dgewood Wealth Advisors\, LLC\n\n \n\n \n\nDirector: David Kreiner\nDram
 a\, 2018\, Israel\n84 minutes\nHebrew with English subtitles\n\nIgal Gazit
 \, an unemployed film director from Tel Aviv\, moves to Sderot and takes a
  teaching job at the high school. However\, Igals first meeting with his n
 ew students doesnt go well. The students\, sensing that he is patronizing 
 them...
DTSTART;TZID=America/New_York:20200322T153000
DTEND;TZID=America/New_York:20200322T173000
END:VEVENT
END:VCALENDAR
