BEGIN:VCALENDAR
PRODID:-//eluceo/ical//2.0/EN
VERSION:2.0
CALSCALE:GREGORIAN
BEGIN:VEVENT
UID:b6ba4a349c10da9c9aa720b698f9be5c
DTSTAMP:20260422T213354Z
SUMMARY:Shooting Life - NH Jewish Film Festival
DESCRIPTION:Jewish Federation of New Hampshire\nCommunity Calendar\nhttps:/
 /jewishnh.org/community-calendar/shooting-life---nh-jewish-film-festival-1
 581456005\n\nShooting Life - Peterborough NH\nNew Hampshire Premiere\nAdmi
 ssion: $12.00\nSunday\, March 22\, 2020\, 1:00 PM\n\nPeterborough Communit
 y Theatre\, Peterborough\, NH\n\nFilm Star Sponsor:Ledgewood Wealth Adviso
 rs\, LLC\n\n \n\nDirector: David Kreiner\nDrama\, 2018\, Israel\n84 minut
 es\nHebrew with English subtitles\n\nIgal Gazit\, an unemployed film direc
 tor from Tel Aviv\, moves to Sderot and takes a teaching job at the high s
 chool. However\, Igals first meeting with his new students doesnt go well.
  Th...
DTSTART;TZID=America/New_York:20200322T130000
DTEND;TZID=America/New_York:20200322T150000
END:VEVENT
END:VCALENDAR
