BEGIN:VCALENDAR
PRODID:-//eluceo/ical//2.0/EN
VERSION:2.0
CALSCALE:GREGORIAN
BEGIN:VEVENT
UID:13564df6c8e8346b9ebaa768f2b61e9f
DTSTAMP:20260422T100300Z
SUMMARY:Short Film Program - NH Jewish Film Festival
DESCRIPTION:Jewish Federation of New Hampshire\nCommunity Calendar\nhttps:/
 /jewishnh.org/community-calendar/short-film-program---nh-jewish-film-festi
 val-1581457038\n\nFood Flirts: Pastrami Meets Ramen - ( Shown with Egg Cre
 am\, Cheeseburger\, How to Swim\, Sushi\, Meatballs and Everything- Manche
 ster NH\nFOOD FLIRTS: PASTRAMI MEETS RAMEN\n\nSpecial Guest: Bruce Seidel\
 n\nTuesday\, March 24\, 2020\, 7:00 PM\nMara Auditorium\, Webster Hall\, S
 NHU\, Manchester\n\nAdmission: $12.00 (Shown with Cheeseburger\, Egg Cream
 \, How to Swim\, and Sushi\, Meatball and Everything)\n\nDirector: Bruce S
 eidel\nDocumentary Short\, 2017\, USA\n25 minutes\nEnglish\n\nMeet the Bra
 ss Sisters\, a...
DTSTART;TZID=America/New_York:20200324T190000
DTEND;TZID=America/New_York:20200324T210000
END:VEVENT
END:VCALENDAR
