BEGIN:VCALENDAR
PRODID:-//eluceo/ical//2.0/EN
VERSION:2.0
CALSCALE:GREGORIAN
BEGIN:VEVENT
UID:9bc2df8f8b6464df16d45d379def57a5
DTSTAMP:20260424T070827Z
SUMMARY:Shorty's Restaurant Fundraiser
DESCRIPTION:Jewish Federation of New Hampshire\nCommunity Calendar\nhttps:/
 /jewishnh.org/community-calendar/shortys-restaurant-fundraiser-1700518923\
 n\nIf you are joining us at 11:00 for our family walk at Mine Falls Park\,
  this would be the perfect spot for lunch.  Shorty's Mexican Roadhouse is 
 located at the Nashua Mall just down the street from the Mine Falls Lincol
 n Park Entrance!
DTSTART;TZID=America/New_York:20231126T113000
DTEND;TZID=America/New_York:20231126T213000
END:VEVENT
END:VCALENDAR
