BEGIN:VCALENDAR
PRODID:-//eluceo/ical//2.0/EN
VERSION:2.0
CALSCALE:GREGORIAN
BEGIN:VEVENT
UID:4f0cb9bacd1e0c25a58415dd91884979
DTSTAMP:20260422T065856Z
SUMMARY:Shrek- PJ Library Film Festival
DESCRIPTION:Jewish Federation of New Hampshire\nCommunity Calendar\nhttps:/
 /jewishnh.org/community-calendar/shrek--pj-library-film-festival-158146169
 4\n\nSHREK - PJ Library Event Concord NH\nShrek\n\nFREE PJ Library Event\n
 \nSunday\, March 29\, 2020\, 3:00 PM\nRed River Theatres\, Concord\, NH\nA
 dmission: FREE but reservations required as space is limited\nRated PG\n\n
 Directors: Vicky Jenson\, Andrew Adamson\nAnimated comedy feature\, 2001\,
  USA\n90 minutes\nEnglish\n\nThis Oscar-winning film is based on the child
 rens book by Jewish-American artist and writer William Steig. Shrek\, an o
 gre living alone in a swamp\, has his solitude shattered by a horde ...
DTSTART;TZID=America/New_York:20200329T150000
DTEND;TZID=America/New_York:20200329T170000
END:VEVENT
END:VCALENDAR
