BEGIN:VCALENDAR
PRODID:-//eluceo/ical//2.0/EN
VERSION:2.0
CALSCALE:GREGORIAN
BEGIN:VEVENT
UID:911bcedba73ebe0a9a402c00e170133a
DTSTAMP:20260424T101641Z
SUMMARY:Temple Israel Portsmouth Simchat Torah Celebration
DESCRIPTION:Jewish Federation of New Hampshire\nCommunity Calendar\nhttps:/
 /jewishnh.org/community-calendar/simchat-torah-celebration-1628627026\n\nP
 lease join Temple Israel in Portsmouth for a Simchat Torah celebration wit
 h "Klezwoods" klezmer band\, followed by an ice-cream buffet.
DTSTART;TZID=America/New_York:20210928T173000
DTEND;TZID=America/New_York:20210928T203000
END:VEVENT
END:VCALENDAR
