BEGIN:VCALENDAR
PRODID:-//eluceo/ical//2.0/EN
VERSION:2.0
CALSCALE:GREGORIAN
BEGIN:VEVENT
UID:22018d041d8843d2c1ff863c354e1b48
DTSTAMP:20260422T183809Z
SUMMARY:TAY Sisterhood Book Group
DESCRIPTION:Jewish Federation of New Hampshire\nCommunity Calendar\nhttps:/
 /jewishnh.org/community-calendar/sisterhood-book-group-1580479620\n\nSiste
 rhood Book Group.\nWe are reading "The Weight of Ink" by Rachel Kadish.\nN
 icole Leapley will lead the conversation.
DTSTART;TZID=America/New_York:20200331T190000
DTEND;TZID=America/New_York:20200331T210000
END:VEVENT
END:VCALENDAR
