BEGIN:VCALENDAR
PRODID:-//eluceo/ical//2.0/EN
VERSION:2.0
CALSCALE:GREGORIAN
BEGIN:VEVENT
UID:aa6bae50abdad78dd8a9ab57402f7614
DTSTAMP:20260424T012902Z
SUMMARY:Sisterhood MEMBER'S  Annual Meeting
DESCRIPTION:Jewish Federation of New Hampshire\nCommunity Calendar\nhttps:/
 /jewishnh.org/community-calendar/sisterhood-members--annual-meeting-155379
 3146\n\nAll Temple Adath Yeshurun Sisterhood Members are invited to the An
 nual Meeting and Dinner at 6pm.
DTSTART;TZID=America/New_York:20190610T180000
DTEND;TZID=America/New_York:20190610T200000
END:VEVENT
END:VCALENDAR
