BEGIN:VCALENDAR
PRODID:-//eluceo/ical//2.0/EN
VERSION:2.0
CALSCALE:GREGORIAN
BEGIN:VEVENT
UID:b2b2a52bee8b97a5d99e4b7cdf7e01b9
DTSTAMP:20260423T120743Z
SUMMARY:Sisterhood Second Night Seder by Reservation at TAY.
DESCRIPTION:Jewish Federation of New Hampshire\nCommunity Calendar\nhttps:/
 /jewishnh.org/community-calendar/sisterhood-second-night-seder-by-reservat
 ion-at-tay-1560687994\n\nSisterhood Second Night Seder at Temple Adath Yes
 hurun.\nAdvanced Paid Reservations by Thursday\, March 26\, 2020.\nCost ap
 prox. $50.00 per person.
DTSTART;TZID=America/New_York:20200409T180000
DTEND;TZID=America/New_York:20200409T210000
END:VEVENT
END:VCALENDAR
