BEGIN:VCALENDAR
PRODID:-//eluceo/ical//2.0/EN
VERSION:2.0
CALSCALE:GREGORIAN
BEGIN:VEVENT
UID:64c99dd8a73884b034e3bb4fc22369b4
DTSTAMP:20260422T201536Z
SUMMARY:Temple Beth Abraham Sisterhood Shabbat
DESCRIPTION:Jewish Federation of New Hampshire\nCommunity Calendar\nhttps:/
 /jewishnh.org/community-calendar/sisterhood-shabbat-1576260614\n\nEach yea
 r\, we set aside one Shabbat morning to celebrate the contributions of the
  Sisterhood to the Temple. This is an opportunity to honor the women of th
 e congregation for their service and to highlight their participation in t
 he religious life of our synagogue.\n\nPlease join us for the service and 
 the luncheon afterwards.
DTSTART;TZID=America/New_York:20200111T093000
DTEND;TZID=America/New_York:20200111T143000
END:VEVENT
END:VCALENDAR
