BEGIN:VCALENDAR
PRODID:-//eluceo/ical//2.0/EN
VERSION:2.0
CALSCALE:GREGORIAN
BEGIN:VEVENT
UID:04098ff6f264469ba0423937470b3a5f
DTSTAMP:20260422T124107Z
SUMMARY:Sisterhood Shabbat at Temple Beth Abraham
DESCRIPTION:Jewish Federation of New Hampshire\nCommunity Calendar\nhttps:/
 /jewishnh.org/community-calendar/sisterhood-shabbat-at-temple-beth-abraham
 -1546447650\n\nEach year we set aside one Shabbat morning to celebrate the
  contributions of the Sisterhood to the Temple. In addition\, this is an o
 pportunity to honor the women of the congregation for their service and to
  highlight their participation in the religious life of our synagogue.Plea
 se join us for the service and the luncheon afterward.
DTSTART;TZID=America/New_York:20190112T093000
DTEND;TZID=America/New_York:20190112T133000
END:VEVENT
END:VCALENDAR
