BEGIN:VCALENDAR
PRODID:-//eluceo/ical//2.0/EN
VERSION:2.0
CALSCALE:GREGORIAN
BEGIN:VEVENT
UID:e0424cdc7d9cafd0f4d0b0e5f6176b4c
DTSTAMP:20260422T215921Z
SUMMARY:Temple Adath Yeshurun Sisterhood Tu B' Shevat Seder
DESCRIPTION:Jewish Federation of New Hampshire\nCommunity Calendar\nhttps:/
 /jewishnh.org/community-calendar/sisterhood-tu-b-shevat-seder-1699025497\n
 \nTemple Adath Yeshurun Sisterhood Tu B' Shevat Seder.\nThe Seder is open 
 to members of TAY at no charge\, and to non-members for $18.00 .\nRSVP due
  in by January 14th. Please make checks payable to "TAY Sisterhood" 152 Pr
 ospect Street\, Manchester\, NH 03104.
DTSTART;TZID=America/New_York:20240124T173000
DTEND;TZID=America/New_York:20240124T193000
END:VEVENT
END:VCALENDAR
