BEGIN:VCALENDAR
PRODID:-//eluceo/ical//2.0/EN
VERSION:2.0
CALSCALE:GREGORIAN
BEGIN:VEVENT
UID:fe2c4b5ac08401920a09b6f6d5c61d25
DTSTAMP:20260420T125456Z
SUMMARY:Six Million Steps Yom HaShoah Remembrance Program
DESCRIPTION:Jewish Federation of New Hampshire\nCommunity Calendar\nhttps:/
 /jewishnh.org/community-calendar/six-million-steps\n\nFor the fourth year 
 in a row\, the Jewish Federation of New Hampshire is partnering with Manch
 ester synagogues to take part in Six Million Steps\, a national initiative
  supported by the Israeli American Council dedicated to preserving the mem
 ory of the Holocaust and raising awareness about global antisemitism.\n\nJ
 oin our community walk\n\nHelp us reach the collective goal of six million
  steps in memory of the six million Jews murdered in the Shoah.\n\nProgram
  & Service Following the Walk\n\nFe...
DTSTART;TZID=America/New_York:20260412T170000
DTEND;TZID=America/New_York:20260412T200000
END:VEVENT
END:VCALENDAR
