BEGIN:VCALENDAR
PRODID:-//eluceo/ical//2.0/EN
VERSION:2.0
CALSCALE:GREGORIAN
BEGIN:VEVENT
UID:b6ef000988d7b369e17d1b64a9cc5ddf
DTSTAMP:20260423T100417Z
SUMMARY:Siyyum Becharot Service & Breakfast
DESCRIPTION:Jewish Federation of New Hampshire\nCommunity Calendar\nhttps:/
 /jewishnh.org/community-calendar/siyyum-becharot-service--breakfast-155387
 6410\n\nMorning service followed by light breakfast (final bread!). The cu
 stom was for first-borns to fast the day before Pesach\, and we override t
 he fast by completing the study of a Jewish text together.
DTSTART;TZID=America/New_York:20190419T073000
DTEND;TZID=America/New_York:20190419T083000
END:VEVENT
END:VCALENDAR
