BEGIN:VCALENDAR
PRODID:-//eluceo/ical//2.0/EN
VERSION:2.0
CALSCALE:GREGORIAN
BEGIN:VEVENT
UID:102a4371976bdd0776b407e5d6063f10
DTSTAMP:20260424T061338Z
SUMMARY:Temple Israel Solidarity Kabbalat Shabbat
DESCRIPTION:Jewish Federation of New Hampshire\nCommunity Calendar\nhttps:/
 /jewishnh.org/community-calendar/solidarity-kabbalat-shabbat-1697127649\n\
 nJoin the Temple Israel community as we raise our voices in prayer for Isr
 ael and for Jews the world over.
DTSTART;TZID=America/New_York:20231013T180000
DTEND;TZID=America/New_York:20231013T200000
END:VEVENT
END:VCALENDAR
