BEGIN:VCALENDAR
PRODID:-//eluceo/ical//2.0/EN
VERSION:2.0
CALSCALE:GREGORIAN
BEGIN:VEVENT
UID:d2aa17778b56a22c4b48a1972b6173d9
DTSTAMP:20260423T215210Z
SUMMARY:Song of the Inspired Soul
DESCRIPTION:Jewish Federation of New Hampshire\nCommunity Calendar\nhttps:/
 /jewishnh.org/community-calendar/song-of-the-inspired-soul\n\nThe entire c
 ommunity is invited to a multimedia production that brings together the me
 dernity of film and the classical musical of a live string quartet playing
  hassidic tunes\, to create a space where past and present play off each o
 ther and become one.\n\nCouvert - $20 reservations at www.chabadofnh.com/s
 oulmusic 
DTSTART;TZID=America/New_York:20200209T183000
DTEND;TZID=America/New_York:20200209T203000
END:VEVENT
END:VCALENDAR
