BEGIN:VCALENDAR
PRODID:-//eluceo/ical//2.0/EN
VERSION:2.0
CALSCALE:GREGORIAN
BEGIN:VEVENT
UID:1172d8f031b631589d5506b2a641d7ec
DTSTAMP:20260423T014529Z
SUMMARY:Sounds in the Sanctuary
DESCRIPTION:Jewish Federation of New Hampshire\nCommunity Calendar\nhttps:/
 /jewishnh.org/community-calendar/songs-in-the-sanctuary\n\nPresenting our 
 10th Season of outstanding performances by nationally and internationally 
 acclaimed artists.\n\nTICKETS: $20 BHC Members\, $25 General Admission\; S
 eason Pass: $60 BHC Members\, $75 General Admission Available at the door 
 or at tickets.catamountarts.org. Program details and information: bethlehe
 msynagogue.org/concert-series-2023
DTSTART;TZID=America/New_York:20230714T170000
DTEND;TZID=America/New_York:20230714T190000
END:VEVENT
END:VCALENDAR
