BEGIN:VCALENDAR
PRODID:-//eluceo/ical//2.0/EN
VERSION:2.0
CALSCALE:GREGORIAN
BEGIN:VEVENT
UID:7368142f8c225a3a2a9e1942b5d53de4
DTSTAMP:20260423T220802Z
SUMMARY:Sounds in the Sanctuary
DESCRIPTION:Jewish Federation of New Hampshire\nCommunity Calendar\nhttps:/
 /jewishnh.org/community-calendar/sounds-in-the-sanctuary2\n\nThis concert 
 will feature the exciting four hands piano duo of Stanislava Varshavsky an
 d Diana Shapiro\, appearing for the first time in the BHC sanctuary to per
 form works of Czerny\, Gavrilin\, Schubert\, and Gershwin. Sounds in the S
 anctuary Concert Series ticket information: Per Concert: $17 BHC Members\,
  $20 General Admission. Six Concert Season Pass: $85 BHC Members\, $100 Ge
 neral Admission. To Order Season Passes contact Sidney Regen: e.sregen@roa
 drunner.com
DTSTART;TZID=America/New_York:20180727T170000
DTEND;TZID=America/New_York:20180727T180000
END:VEVENT
END:VCALENDAR
